BEGIN:VCALENDAR
VERSION:2.0
PRODID:-//The Loft - ECPv5.2.1//NONSGML v1.0//EN
CALSCALE:GREGORIAN
METHOD:PUBLISH
X-WR-CALNAME:The Loft
X-ORIGINAL-URL:https://the-loft.lu
X-WR-CALDESC:évènements pour The Loft
BEGIN:VTIMEZONE
TZID:Europe/Paris
BEGIN:DAYLIGHT
TZOFFSETFROM:+0100
TZOFFSETTO:+0200
TZNAME:CEST
DTSTART:20210328T010000
END:DAYLIGHT
BEGIN:STANDARD
TZOFFSETFROM:+0200
TZOFFSETTO:+0100
TZNAME:CET
DTSTART:20211031T010000
END:STANDARD
END:VTIMEZONE
BEGIN:VEVENT
DTSTART;VALUE=DATE:20210515
DTEND;VALUE=DATE:20210516
DTSTAMP:20210722T192134
CREATED:20210602T155917Z
LAST-MODIFIED:20210602T160233Z
UID:1373-1621036800-1621123199@the-loft.lu
SUMMARY:Final E-League
DESCRIPTION:https://the-loft.lu/wp-content/uploads/2021/06/The-LOFT_Orange_eLeague-FINALS-TEAMS.mp4
URL:https://the-loft.lu/event/final-e-league/
LOCATION:The Loft\, 7 rue Edmond Reuter\, CONTERN\, 5326\, Luxembourg
ATTACH;FMTTYPE=image/jpeg:https://the-loft.lu/wp-content/uploads/2021/06/The-LOFT_Orange_eLeague-FINALS-TEAMS.jpg
ORGANIZER;CN="The%20Loft":MAILTO:proia@the-loft.lu
END:VEVENT
END:VCALENDAR