BEGIN:VCALENDAR
VERSION:2.0
PRODID:-//The Loft - ECPv5.2.1//NONSGML v1.0//EN
CALSCALE:GREGORIAN
METHOD:PUBLISH
X-WR-CALNAME:The Loft
X-ORIGINAL-URL:https://the-loft.lu
X-WR-CALDESC:évènements pour The Loft
BEGIN:VTIMEZONE
TZID:Europe/Paris
BEGIN:DAYLIGHT
TZOFFSETFROM:+0100
TZOFFSETTO:+0200
TZNAME:CEST
DTSTART:20210328T010000
END:DAYLIGHT
BEGIN:STANDARD
TZOFFSETFROM:+0200
TZOFFSETTO:+0100
TZNAME:CET
DTSTART:20211031T010000
END:STANDARD
END:VTIMEZONE
BEGIN:VEVENT
DTSTART;TZID=Europe/Paris:20210708T180000
DTEND;TZID=Europe/Paris:20210708T200000
DTSTAMP:20210722T051306
CREATED:20210716T100240Z
LAST-MODIFIED:20210716T101201Z
UID:1514-1625767200-1625774400@the-loft.lu
SUMMARY:Miralem Pjanić à THE LOFT
DESCRIPTION:Découverte de THE LOFT par Miralem Pjanić\nMerci @miralem_pjanic Du bass emmer herzlech welkom weini dass de wells💪🏻🇱🇺⚽️\nSee you soon
URL:https://the-loft.lu/event/1514/
LOCATION:The Loft\, 7 rue Edmond Reuter\, CONTERN\, 5326\, Luxembourg
CATEGORIES:Guest star
ATTACH;FMTTYPE=image/jpeg:https://the-loft.lu/wp-content/uploads/2021/07/telechargement.jpg
ORGANIZER;CN="The%20Loft":MAILTO:proia@the-loft.lu
END:VEVENT
END:VCALENDAR